BEGIN:VCALENDAR
VERSION:2.0
PRODID:-//RAWA - ECPv6.15.20//NONSGML v1.0//EN
CALSCALE:GREGORIAN
METHOD:PUBLISH
X-WR-CALNAME:RAWA
X-ORIGINAL-URL:https://rawa-kanu.de/rawa2016
X-WR-CALDESC:Veranstaltungen für RAWA
REFRESH-INTERVAL;VALUE=DURATION:PT1H
X-Robots-Tag:noindex
X-PUBLISHED-TTL:PT1H
BEGIN:VTIMEZONE
TZID:Europe/Berlin
BEGIN:DAYLIGHT
TZOFFSETFROM:+0100
TZOFFSETTO:+0200
TZNAME:CEST
DTSTART:20230326T010000
END:DAYLIGHT
BEGIN:STANDARD
TZOFFSETFROM:+0200
TZOFFSETTO:+0100
TZNAME:CET
DTSTART:20231029T010000
END:STANDARD
BEGIN:DAYLIGHT
TZOFFSETFROM:+0100
TZOFFSETTO:+0200
TZNAME:CEST
DTSTART:20240331T010000
END:DAYLIGHT
BEGIN:STANDARD
TZOFFSETFROM:+0200
TZOFFSETTO:+0100
TZNAME:CET
DTSTART:20241027T010000
END:STANDARD
BEGIN:DAYLIGHT
TZOFFSETFROM:+0100
TZOFFSETTO:+0200
TZNAME:CEST
DTSTART:20250330T010000
END:DAYLIGHT
BEGIN:STANDARD
TZOFFSETFROM:+0200
TZOFFSETTO:+0100
TZNAME:CET
DTSTART:20251026T010000
END:STANDARD
END:VTIMEZONE
BEGIN:VEVENT
DTSTART;VALUE=DATE:20240810
DTEND;VALUE=DATE:20240811
DTSTAMP:20260420T040941
CREATED:20240115T181918Z
LAST-MODIFIED:20240115T181957Z
UID:2133-1723248000-1723334399@rawa-kanu.de
SUMMARY:Wanderfahrt: Ems (Emsdetten - Rheine)
DESCRIPTION:von Emsdetten bis Rheine
URL:https://rawa-kanu.de/rawa2016/termin/wanderfahrt-auf-der-ems-emsdetten-rheine/
END:VEVENT
BEGIN:VEVENT
DTSTART;TZID=Europe/Berlin:20240824T100000
DTEND;TZID=Europe/Berlin:20240824T160000
DTSTAMP:20260420T040942
CREATED:20231210T181844Z
LAST-MODIFIED:20231210T183259Z
UID:2087-1724493600-1724515200@rawa-kanu.de
SUMMARY:Schulung über Sicherheitsaspekte
DESCRIPTION:Schulung über Sicherheitsaspekte\, Ruhr (NG)\nBootshaus der SG Welper\, Ruhrdeich 20\, 45527 Hattingen\nBeginn: 10:00 Uhr Ende: ca. 16:00 Uhr\,\nAusrüstung: Boot\, Paddel\, Schwimmweste\, Helm\, Wurfsack\, Neopren\nAnmeldung bis 27.07.2024 bei Karl Engbring oder Martin Georg Hachenberg
URL:https://rawa-kanu.de/rawa2016/termin/schulung-ueber-sicherheitsaspekte-2/
LOCATION:Sg Welper\, Ruhrdeich 20\, Hattingen\, 45525\, Deutschland
END:VEVENT
BEGIN:VEVENT
DTSTART;VALUE=DATE:20240825
DTEND;VALUE=DATE:20240826
DTSTAMP:20260420T040942
CREATED:20240115T182044Z
LAST-MODIFIED:20240115T182044Z
UID:2137-1724544000-1724630399@rawa-kanu.de
SUMMARY:Slalom: Hilden
DESCRIPTION:Gewässer: Elbsee
URL:https://rawa-kanu.de/rawa2016/termin/slalom-hilden-3/
END:VEVENT
BEGIN:VEVENT
DTSTART;VALUE=DATE:20240831
DTEND;VALUE=DATE:20240901
DTSTAMP:20260420T040942
CREATED:20240115T182146Z
LAST-MODIFIED:20240115T182146Z
UID:2139-1725062400-1725148799@rawa-kanu.de
SUMMARY:Wanderfahrt: Ruhr (RAWA - PV WABU Oberhausen)
DESCRIPTION:
URL:https://rawa-kanu.de/rawa2016/termin/wanderfahrt-ruhr-rawa-pv-wabu-oberhausen/
LOCATION:RAWA\, Hardenbergufer 123\, Essen\, 45239\, Deutschland
END:VEVENT
END:VCALENDAR