BEGIN:VCALENDAR
VERSION:2.0
PRODID:-//RAWA - ECPv6.15.20//NONSGML v1.0//EN
CALSCALE:GREGORIAN
METHOD:PUBLISH
X-WR-CALNAME:RAWA
X-ORIGINAL-URL:https://rawa-kanu.de/rawa2016
X-WR-CALDESC:Veranstaltungen für RAWA
REFRESH-INTERVAL;VALUE=DURATION:PT1H
X-Robots-Tag:noindex
X-PUBLISHED-TTL:PT1H
BEGIN:VTIMEZONE
TZID:Europe/Berlin
BEGIN:DAYLIGHT
TZOFFSETFROM:+0100
TZOFFSETTO:+0200
TZNAME:CEST
DTSTART:20220327T010000
END:DAYLIGHT
BEGIN:STANDARD
TZOFFSETFROM:+0200
TZOFFSETTO:+0100
TZNAME:CET
DTSTART:20221030T010000
END:STANDARD
BEGIN:DAYLIGHT
TZOFFSETFROM:+0100
TZOFFSETTO:+0200
TZNAME:CEST
DTSTART:20230326T010000
END:DAYLIGHT
BEGIN:STANDARD
TZOFFSETFROM:+0200
TZOFFSETTO:+0100
TZNAME:CET
DTSTART:20231029T010000
END:STANDARD
BEGIN:DAYLIGHT
TZOFFSETFROM:+0100
TZOFFSETTO:+0200
TZNAME:CEST
DTSTART:20240331T010000
END:DAYLIGHT
BEGIN:STANDARD
TZOFFSETFROM:+0200
TZOFFSETTO:+0100
TZNAME:CET
DTSTART:20241027T010000
END:STANDARD
END:VTIMEZONE
BEGIN:VEVENT
DTSTART;VALUE=DATE:20230407
DTEND;VALUE=DATE:20230411
DTSTAMP:20260421T120923
CREATED:20221219T133535Z
LAST-MODIFIED:20221219T133535Z
UID:1863-1680825600-1681171199@rawa-kanu.de
SUMMARY:Vereinsfahrt: Osterfahrt\, Standquartier Hann. Münden. Paddelgewässer: Weser / Fulda / Werra
DESCRIPTION:
URL:https://rawa-kanu.de/rawa2016/termin/vereinsfahrt-osterfahrt-standquartier-hann-muenden-paddelgewaesser-weser-fulda-werra/
END:VEVENT
BEGIN:VEVENT
DTSTART;VALUE=DATE:20230422
DTEND;VALUE=DATE:20230424
DTSTAMP:20260421T120923
CREATED:20221219T133700Z
LAST-MODIFIED:20221219T133700Z
UID:1865-1682121600-1682294399@rawa-kanu.de
SUMMARY:Slalom: Bergheim / Erft
DESCRIPTION:
URL:https://rawa-kanu.de/rawa2016/termin/slalom-bergheim-erft/
END:VEVENT
BEGIN:VEVENT
DTSTART;VALUE=DATE:20230423
DTEND;VALUE=DATE:20230424
DTSTAMP:20260421T120923
CREATED:20221219T134048Z
LAST-MODIFIED:20221219T134940Z
UID:1867-1682208000-1682294399@rawa-kanu.de
SUMMARY:50. Int. Kanu Rallye NRW\, ICF\, Köln - Düsseldorf
DESCRIPTION:Start: Bootshaus des KC Zugvogel Köln\, Rhein-km 677\,3
URL:https://rawa-kanu.de/rawa2016/termin/50-int-kanu-rallye-nrw-icf-koeln-duesseldorf/
END:VEVENT
BEGIN:VEVENT
DTSTART;TZID=Europe/Berlin:20230430T110000
DTEND;TZID=Europe/Berlin:20230430T110000
DTSTAMP:20260421T120923
CREATED:20221111T192738Z
LAST-MODIFIED:20230424T104350Z
UID:1841-1682852400-1682852400@rawa-kanu.de
SUMMARY:3. Bezirksfahrt: Agger\, Vilkerath – KC Delphin Siegburg
DESCRIPTION:Ist der Pegel Overath am 29.04. um 12:00 Uhr unter 70 cm wird die Fahrt zur Sieg verlegt.\nDer Pegel ist auch auf der Site des KCD Siegburg zu finden:\nhttps://www.kcd-siegburg.de/kcd-pegel/kcd-pegel_css-flex.html
URL:https://rawa-kanu.de/rawa2016/termin/3-bezirksfahrt-agger-vilkerath-kc-delphin-siegburg/
END:VEVENT
END:VCALENDAR