BEGIN:VCALENDAR
VERSION:2.0
PRODID:-//RAWA - ECPv6.15.20//NONSGML v1.0//EN
CALSCALE:GREGORIAN
METHOD:PUBLISH
X-ORIGINAL-URL:https://rawa-kanu.de/rawa2016
X-WR-CALDESC:Veranstaltungen für RAWA
REFRESH-INTERVAL;VALUE=DURATION:PT1H
X-Robots-Tag:noindex
X-PUBLISHED-TTL:PT1H
BEGIN:VTIMEZONE
TZID:Europe/Berlin
BEGIN:DAYLIGHT
TZOFFSETFROM:+0100
TZOFFSETTO:+0200
TZNAME:CEST
DTSTART:20210328T010000
END:DAYLIGHT
BEGIN:STANDARD
TZOFFSETFROM:+0200
TZOFFSETTO:+0100
TZNAME:CET
DTSTART:20211031T010000
END:STANDARD
BEGIN:DAYLIGHT
TZOFFSETFROM:+0100
TZOFFSETTO:+0200
TZNAME:CEST
DTSTART:20220327T010000
END:DAYLIGHT
BEGIN:STANDARD
TZOFFSETFROM:+0200
TZOFFSETTO:+0100
TZNAME:CET
DTSTART:20221030T010000
END:STANDARD
BEGIN:DAYLIGHT
TZOFFSETFROM:+0100
TZOFFSETTO:+0200
TZNAME:CEST
DTSTART:20230326T010000
END:DAYLIGHT
BEGIN:STANDARD
TZOFFSETFROM:+0200
TZOFFSETTO:+0100
TZNAME:CET
DTSTART:20231029T010000
END:STANDARD
END:VTIMEZONE
BEGIN:VEVENT
DTSTART;VALUE=DATE:20220402
DTEND;VALUE=DATE:20220404
DTSTAMP:20260420T161103
CREATED:20220119T181816Z
LAST-MODIFIED:20220119T181816Z
UID:1215-1648857600-1649030399@rawa-kanu.de
SUMMARY:Slalom: Erft - Bergheim
DESCRIPTION:
URL:https://rawa-kanu.de/rawa2016/termin/slalom-erft-bergheim/
END:VEVENT
BEGIN:VEVENT
DTSTART;TZID=Europe/Berlin:20220407T180000
DTEND;TZID=Europe/Berlin:20220407T180000
DTSTAMP:20260420T161103
CREATED:20220119T184840Z
LAST-MODIFIED:20220119T184840Z
UID:1261-1649354400-1649354400@rawa-kanu.de
SUMMARY:RAWA-Stammtisch im Clubraum
DESCRIPTION:
URL:https://rawa-kanu.de/rawa2016/termin/rawa-stammtisch-im-clubraum-3/
LOCATION:RAWA\, Hardenbergufer 123\, Essen\, 45239\, Deutschland
END:VEVENT
BEGIN:VEVENT
DTSTART;TZID=Europe/Berlin:20220410T110000
DTEND;TZID=Europe/Berlin:20220410T110000
DTSTAMP:20260420T161103
CREATED:20220119T175917Z
LAST-MODIFIED:20220119T185758Z
UID:1195-1649588400-1649588400@rawa-kanu.de
SUMMARY:3. Bezirksfahrt: Sieg / Eitorf – Siegburg
DESCRIPTION:3. Bezirksfahrt: Sieg = Eitorf – STV Siegburg (NG) ist der Pegel am 09.04.2022 um 12:00 Uhr\nunter 35 cm\, wird die Fahrt auf der Lippe (NG) durchgeführt\, Ersatzfahrt: Schermbeck – KFL\nWesel Start: 11:00 Uhr\,  Fahrtenleiter: Hans-Peter Kuhl Tel.: 0201-777333
URL:https://rawa-kanu.de/rawa2016/termin/3-bezirksfahrt-sieg/
END:VEVENT
BEGIN:VEVENT
DTSTART;VALUE=DATE:20220415
DTEND;VALUE=DATE:20220419
DTSTAMP:20260420T161103
CREATED:20220119T181914Z
LAST-MODIFIED:20220119T181914Z
UID:1217-1649980800-1650326399@rawa-kanu.de
SUMMARY:Wanderfahrt: Osterfahrt nach Absprache (wenn Corona bedingt möglich)
DESCRIPTION:
URL:https://rawa-kanu.de/rawa2016/termin/wanderfahrt-osterfahrt-nach-absprache-wenn-corona-bedingt-moeglich/
END:VEVENT
BEGIN:VEVENT
DTSTART;VALUE=DATE:20220424
DTEND;VALUE=DATE:20220425
DTSTAMP:20260420T161103
CREATED:20220119T182015Z
LAST-MODIFIED:20220119T182015Z
UID:1219-1650758400-1650844799@rawa-kanu.de
SUMMARY:NRW Kanu Rallye / Ruhr
DESCRIPTION:NRW Kanu Rallye\, ICF\, Witten – RAWA
URL:https://rawa-kanu.de/rawa2016/termin/nrw-kanu-rallye-ruhr/
END:VEVENT
BEGIN:VEVENT
DTSTART;VALUE=DATE:20220430
DTEND;VALUE=DATE:20220502
DTSTAMP:20260420T161104
CREATED:20220119T182104Z
LAST-MODIFIED:20220119T182104Z
UID:1221-1651276800-1651449599@rawa-kanu.de
SUMMARY:Slalom: Neuss\, WDM
DESCRIPTION:Slalom Neuss\, WDM
URL:https://rawa-kanu.de/rawa2016/termin/slalom-neuss-wdm/
END:VEVENT
END:VCALENDAR