BEGIN:VCALENDAR
VERSION:2.0
PRODID:-//RAWA - ECPv6.15.20//NONSGML v1.0//EN
CALSCALE:GREGORIAN
METHOD:PUBLISH
X-ORIGINAL-URL:https://rawa-kanu.de/rawa2016
X-WR-CALDESC:Veranstaltungen für RAWA
REFRESH-INTERVAL;VALUE=DURATION:PT1H
X-Robots-Tag:noindex
X-PUBLISHED-TTL:PT1H
BEGIN:VTIMEZONE
TZID:Europe/Berlin
BEGIN:DAYLIGHT
TZOFFSETFROM:+0100
TZOFFSETTO:+0200
TZNAME:CEST
DTSTART:20210328T010000
END:DAYLIGHT
BEGIN:STANDARD
TZOFFSETFROM:+0200
TZOFFSETTO:+0100
TZNAME:CET
DTSTART:20211031T010000
END:STANDARD
BEGIN:DAYLIGHT
TZOFFSETFROM:+0100
TZOFFSETTO:+0200
TZNAME:CEST
DTSTART:20220327T010000
END:DAYLIGHT
BEGIN:STANDARD
TZOFFSETFROM:+0200
TZOFFSETTO:+0100
TZNAME:CET
DTSTART:20221030T010000
END:STANDARD
BEGIN:DAYLIGHT
TZOFFSETFROM:+0100
TZOFFSETTO:+0200
TZNAME:CEST
DTSTART:20230326T010000
END:DAYLIGHT
BEGIN:STANDARD
TZOFFSETFROM:+0200
TZOFFSETTO:+0100
TZNAME:CET
DTSTART:20231029T010000
END:STANDARD
END:VTIMEZONE
BEGIN:VEVENT
DTSTART;TZID=Europe/Berlin:20220303T180000
DTEND;TZID=Europe/Berlin:20220303T180000
DTSTAMP:20260420T111819
CREATED:20220119T184802Z
LAST-MODIFIED:20220119T184802Z
UID:1259-1646330400-1646330400@rawa-kanu.de
SUMMARY:RAWA-Stammtisch im Clubraum
DESCRIPTION:
URL:https://rawa-kanu.de/rawa2016/termin/rawa-stammtisch-im-clubraum-2/
LOCATION:RAWA\, Hardenbergufer 123\, Essen\, 45239\, Deutschland
END:VEVENT
BEGIN:VEVENT
DTSTART;TZID=Europe/Berlin:20220305T180000
DTEND;TZID=Europe/Berlin:20220305T180000
DTSTAMP:20260420T111819
CREATED:20220119T175222Z
LAST-MODIFIED:20220119T175326Z
UID:1189-1646503200-1646503200@rawa-kanu.de
SUMMARY:Ehrung der Wandersportler des Bezirks 8 im Bootshaus RAWA Essen
DESCRIPTION:
URL:https://rawa-kanu.de/rawa2016/termin/ehrung-der-wandersportler-des-bezirks-8-im-bootshaus-rawa-essen/
LOCATION:RAWA\, Hardenbergufer 123\, Essen\, 45239\, Deutschland
END:VEVENT
BEGIN:VEVENT
DTSTART;TZID=Europe/Berlin:20220306T110000
DTEND;TZID=Europe/Berlin:20220306T110000
DTSTAMP:20260420T111819
CREATED:20220119T175429Z
LAST-MODIFIED:20220119T175443Z
UID:1191-1646564400-1646564400@rawa-kanu.de
SUMMARY:2. Bezirksfahrt: Rund um den Baldeneysee (SG)
DESCRIPTION:Bootshaus RAWA Essen Hardenbergufer\n123\, 45239 Essen\, Start 11:00 Uhr Fahrtenleiter: Karl Engbring
URL:https://rawa-kanu.de/rawa2016/termin/2-bezirksfahrt-rund-um-den-baldeneysee-sg/
LOCATION:RAWA\, Hardenbergufer 123\, Essen\, 45239\, Deutschland
END:VEVENT
BEGIN:VEVENT
DTSTART;VALUE=DATE:20220320
DTEND;VALUE=DATE:20220321
DTSTAMP:20260420T111819
CREATED:20220119T181708Z
LAST-MODIFIED:20220123T120949Z
UID:1213-1647734400-1647820799@rawa-kanu.de
SUMMARY:Wanderfahrt: Sülz/ Agger
DESCRIPTION:20.03. Sülz/ Agger* Untereschbach – KC Delphin Siegburg
URL:https://rawa-kanu.de/rawa2016/termin/wanderfahrt-suelz-agger-3/
END:VEVENT
BEGIN:VEVENT
DTSTART;TZID=Europe/Berlin:20220326T100000
DTEND;TZID=Europe/Berlin:20220326T160000
DTSTAMP:20260420T111819
CREATED:20220119T175612Z
LAST-MODIFIED:20220325T160927Z
UID:1193-1648288800-1648310400@rawa-kanu.de
SUMMARY:Schulung über Ökologie bei RAWA Essen
DESCRIPTION:VERANSTALTUNGSORT GEÄNDERT: RAWA ESSEN\nBeginn: 10:00 Uhr Ende: ca. 16:00 Uhr\nTeilnehmergebühren: DKV Mitglieder 5\,00 €\, Nichtmitglieder 10\,00 € Anmeldung bis 12.03.2022 beim Wandersportwart
URL:https://rawa-kanu.de/rawa2016/termin/schulung-ueber-oekologie-im-bootshaus-des-kanu-klub-industrie/
LOCATION:RAWA\, Hardenbergufer 123\, Essen\, 45239\, Deutschland
END:VEVENT
END:VCALENDAR