BEGIN:VCALENDAR
VERSION:2.0
PRODID:-//RAWA - ECPv6.15.20//NONSGML v1.0//EN
CALSCALE:GREGORIAN
METHOD:PUBLISH
X-ORIGINAL-URL:https://rawa-kanu.de/rawa2016
X-WR-CALDESC:Veranstaltungen für RAWA
REFRESH-INTERVAL;VALUE=DURATION:PT1H
X-Robots-Tag:noindex
X-PUBLISHED-TTL:PT1H
BEGIN:VTIMEZONE
TZID:Europe/Berlin
BEGIN:DAYLIGHT
TZOFFSETFROM:+0100
TZOFFSETTO:+0200
TZNAME:CEST
DTSTART:20200329T010000
END:DAYLIGHT
BEGIN:STANDARD
TZOFFSETFROM:+0200
TZOFFSETTO:+0100
TZNAME:CET
DTSTART:20201025T010000
END:STANDARD
BEGIN:DAYLIGHT
TZOFFSETFROM:+0100
TZOFFSETTO:+0200
TZNAME:CEST
DTSTART:20210328T010000
END:DAYLIGHT
BEGIN:STANDARD
TZOFFSETFROM:+0200
TZOFFSETTO:+0100
TZNAME:CET
DTSTART:20211031T010000
END:STANDARD
BEGIN:DAYLIGHT
TZOFFSETFROM:+0100
TZOFFSETTO:+0200
TZNAME:CEST
DTSTART:20220327T010000
END:DAYLIGHT
BEGIN:STANDARD
TZOFFSETFROM:+0200
TZOFFSETTO:+0100
TZNAME:CET
DTSTART:20221030T010000
END:STANDARD
END:VTIMEZONE
BEGIN:VEVENT
DTSTART;VALUE=DATE:20210307
DTEND;VALUE=DATE:20210308
DTSTAMP:20260420T174245
CREATED:20201229T203933Z
LAST-MODIFIED:20201229T203933Z
UID:1079-1615075200-1615161599@rawa-kanu.de
SUMMARY:2. Bezirksfahrt\, Anpaddeln Baldeneysee
DESCRIPTION:
URL:https://rawa-kanu.de/rawa2016/termin/2-bezirksfahrt-anpaddeln-baldeneysee/
LOCATION:RAWA\, Hardenbergufer 123\, Essen\, 45239\, Deutschland
END:VEVENT
BEGIN:VEVENT
DTSTART;TZID=Europe/Berlin:20210320T100000
DTEND;TZID=Europe/Berlin:20210320T160000
DTSTAMP:20260420T174245
CREATED:20201229T204011Z
LAST-MODIFIED:20201229T210606Z
UID:1081-1616234400-1616256000@rawa-kanu.de
SUMMARY:Vorläufig: Bezirk Ökologie Schulung\, KKI
DESCRIPTION:Kanuklub Industrie Essen e.V.\, Langenberger Str. 664a\, 45277 Essen
URL:https://rawa-kanu.de/rawa2016/termin/bezirk-oekologie-schulung-kki/
LOCATION:kki\, Langenberger Str. 664a\, Essen\, 45277\, Deutschland
END:VEVENT
BEGIN:VEVENT
DTSTART;VALUE=DATE:20210321
DTEND;VALUE=DATE:20210322
DTSTAMP:20260420T174245
CREATED:20201229T204056Z
LAST-MODIFIED:20201229T204056Z
UID:1083-1616284800-1616371199@rawa-kanu.de
SUMMARY:Sülz/ Agger* Untereschbach - KC Delphin Siegburg
DESCRIPTION:
URL:https://rawa-kanu.de/rawa2016/termin/suelz-agger-untereschbach-kc-delphin-siegburg/
END:VEVENT
END:VCALENDAR