BEGIN:VCALENDAR
VERSION:2.0
PRODID:-//RAWA - ECPv6.15.20//NONSGML v1.0//EN
CALSCALE:GREGORIAN
METHOD:PUBLISH
X-WR-CALNAME:RAWA
X-ORIGINAL-URL:https://rawa-kanu.de/rawa2016
X-WR-CALDESC:Veranstaltungen für RAWA
REFRESH-INTERVAL;VALUE=DURATION:PT1H
X-Robots-Tag:noindex
X-PUBLISHED-TTL:PT1H
BEGIN:VTIMEZONE
TZID:Europe/Berlin
BEGIN:DAYLIGHT
TZOFFSETFROM:+0100
TZOFFSETTO:+0200
TZNAME:CEST
DTSTART:20200329T010000
END:DAYLIGHT
BEGIN:STANDARD
TZOFFSETFROM:+0200
TZOFFSETTO:+0100
TZNAME:CET
DTSTART:20201025T010000
END:STANDARD
BEGIN:DAYLIGHT
TZOFFSETFROM:+0100
TZOFFSETTO:+0200
TZNAME:CEST
DTSTART:20210328T010000
END:DAYLIGHT
BEGIN:STANDARD
TZOFFSETFROM:+0200
TZOFFSETTO:+0100
TZNAME:CET
DTSTART:20211031T010000
END:STANDARD
BEGIN:DAYLIGHT
TZOFFSETFROM:+0100
TZOFFSETTO:+0200
TZNAME:CEST
DTSTART:20220327T010000
END:DAYLIGHT
BEGIN:STANDARD
TZOFFSETFROM:+0200
TZOFFSETTO:+0100
TZNAME:CET
DTSTART:20221030T010000
END:STANDARD
END:VTIMEZONE
BEGIN:VEVENT
DTSTART;TZID=Europe/Berlin:20210116T170000
DTEND;TZID=Europe/Berlin:20210116T170000
DTSTAMP:20260421T004419
CREATED:20201229T205803Z
LAST-MODIFIED:20201229T205803Z
UID:1125-1610816400-1610816400@rawa-kanu.de
SUMMARY:Vorläufig: Filmnachmittag im Bootshaus MKV Mülheim
DESCRIPTION:Filme von Kurt Grelling
URL:https://rawa-kanu.de/rawa2016/termin/vorlaeufig-filmnachmittag-im-bootshaus-mkv-muelheim/
END:VEVENT
END:VCALENDAR