BEGIN:VCALENDAR
VERSION:2.0
PRODID:-//RAWA - ECPv6.15.20//NONSGML v1.0//EN
CALSCALE:GREGORIAN
METHOD:PUBLISH
X-ORIGINAL-URL:https://rawa-kanu.de/rawa2016
X-WR-CALDESC:Veranstaltungen für RAWA
REFRESH-INTERVAL;VALUE=DURATION:PT1H
X-Robots-Tag:noindex
X-PUBLISHED-TTL:PT1H
BEGIN:VTIMEZONE
TZID:Europe/Berlin
BEGIN:DAYLIGHT
TZOFFSETFROM:+0100
TZOFFSETTO:+0200
TZNAME:CEST
DTSTART:20190331T010000
END:DAYLIGHT
BEGIN:STANDARD
TZOFFSETFROM:+0200
TZOFFSETTO:+0100
TZNAME:CET
DTSTART:20191027T010000
END:STANDARD
BEGIN:DAYLIGHT
TZOFFSETFROM:+0100
TZOFFSETTO:+0200
TZNAME:CEST
DTSTART:20200329T010000
END:DAYLIGHT
BEGIN:STANDARD
TZOFFSETFROM:+0200
TZOFFSETTO:+0100
TZNAME:CET
DTSTART:20201025T010000
END:STANDARD
BEGIN:DAYLIGHT
TZOFFSETFROM:+0100
TZOFFSETTO:+0200
TZNAME:CEST
DTSTART:20210328T010000
END:DAYLIGHT
BEGIN:STANDARD
TZOFFSETFROM:+0200
TZOFFSETTO:+0100
TZNAME:CET
DTSTART:20211031T010000
END:STANDARD
END:VTIMEZONE
BEGIN:VEVENT
DTSTART;TZID=Europe/Berlin:20200502T000000
DTEND;TZID=Europe/Berlin:20200502T000000
DTSTAMP:20260421T142255
CREATED:20191218T220955Z
LAST-MODIFIED:20200512T185023Z
UID:1000-1588377600-1588377600@rawa-kanu.de
SUMMARY:ABGESAGT wegen Corona-Schutz: Vereinsfahrt: Rhein. Schwalm\, Lüttelforst-Bundesgrenze
DESCRIPTION:
URL:https://rawa-kanu.de/rawa2016/termin/vereinsfahrt-rhein-schwalm-luettelforst-bundesgrenze/
END:VEVENT
BEGIN:VEVENT
DTSTART;TZID=Europe/Berlin:20200517T110000
DTEND;TZID=Europe/Berlin:20200517T110000
DTSTAMP:20260421T142255
CREATED:20191218T221127Z
LAST-MODIFIED:20200512T184957Z
UID:1002-1589713200-1589713200@rawa-kanu.de
SUMMARY:ABGESAGT wegen Corona-Schutz: 4. Bezirksfahrt: – Rur \, Linnich - Orsbeck
DESCRIPTION:
URL:https://rawa-kanu.de/rawa2016/termin/4-bezirksfahrt-rur-linnich-orsbeck/
END:VEVENT
BEGIN:VEVENT
DTSTART;VALUE=DATE:20200521
DTEND;VALUE=DATE:20200525
DTSTAMP:20260421T142255
CREATED:20191218T221301Z
LAST-MODIFIED:20200512T184938Z
UID:1004-1590019200-1590364799@rawa-kanu.de
SUMMARY:ABGESAGT wegen Corona-Schutz: Vereinsfahrt\, Tour in den Niederlanden
DESCRIPTION:
URL:https://rawa-kanu.de/rawa2016/termin/vereinsfahrt-tour-in-den-niederlanden/
END:VEVENT
BEGIN:VEVENT
DTSTART;VALUE=DATE:20200531
DTEND;VALUE=DATE:20200602
DTSTAMP:20260421T142255
CREATED:20191218T221409Z
LAST-MODIFIED:20200512T184850Z
UID:1006-1590883200-1591055999@rawa-kanu.de
SUMMARY:ABGESAGT wegen Corona-Schutz: Pfingsten am Bootshaus mit Fahrten auf Ruhr u. Rhein-Herne-Kanal
DESCRIPTION:
URL:https://rawa-kanu.de/rawa2016/termin/pfingsten-am-bootshaus-mit-fahrten-auf-ruhr-u-rhein-herne-kanal/
LOCATION:RAWA\, Hardenbergufer 123\, Essen\, 45239\, Deutschland
END:VEVENT
END:VCALENDAR