BEGIN:VCALENDAR
VERSION:2.0
PRODID:-//RAWA - ECPv6.15.20//NONSGML v1.0//EN
CALSCALE:GREGORIAN
METHOD:PUBLISH
X-ORIGINAL-URL:https://rawa-kanu.de/rawa2016
X-WR-CALDESC:Veranstaltungen für RAWA
REFRESH-INTERVAL;VALUE=DURATION:PT1H
X-Robots-Tag:noindex
X-PUBLISHED-TTL:PT1H
BEGIN:VTIMEZONE
TZID:Europe/Berlin
BEGIN:DAYLIGHT
TZOFFSETFROM:+0100
TZOFFSETTO:+0200
TZNAME:CEST
DTSTART:20190331T010000
END:DAYLIGHT
BEGIN:STANDARD
TZOFFSETFROM:+0200
TZOFFSETTO:+0100
TZNAME:CET
DTSTART:20191027T010000
END:STANDARD
BEGIN:DAYLIGHT
TZOFFSETFROM:+0100
TZOFFSETTO:+0200
TZNAME:CEST
DTSTART:20200329T010000
END:DAYLIGHT
BEGIN:STANDARD
TZOFFSETFROM:+0200
TZOFFSETTO:+0100
TZNAME:CET
DTSTART:20201025T010000
END:STANDARD
BEGIN:DAYLIGHT
TZOFFSETFROM:+0100
TZOFFSETTO:+0200
TZNAME:CEST
DTSTART:20210328T010000
END:DAYLIGHT
BEGIN:STANDARD
TZOFFSETFROM:+0200
TZOFFSETTO:+0100
TZNAME:CET
DTSTART:20211031T010000
END:STANDARD
END:VTIMEZONE
BEGIN:VEVENT
DTSTART;VALUE=DATE:20200215
DTEND;VALUE=DATE:20200216
DTSTAMP:20260421T190531
CREATED:20191218T214159Z
LAST-MODIFIED:20191218T214159Z
UID:977-1581724800-1581811199@rawa-kanu.de
SUMMARY:Karnevalsfeier bei RAWA !
DESCRIPTION:
URL:https://rawa-kanu.de/rawa2016/termin/karnevalsfeier-bei-rawa/
LOCATION:RAWA\, Hardenbergufer 123\, Essen\, 45239\, Deutschland
END:VEVENT
BEGIN:VEVENT
DTSTART;TZID=Europe/Berlin:20200215T170000
DTEND;TZID=Europe/Berlin:20200215T170000
DTSTAMP:20260421T190531
CREATED:20191218T214024Z
LAST-MODIFIED:20191218T214024Z
UID:975-1581786000-1581786000@rawa-kanu.de
SUMMARY:Filmnachmittag im Bootshaus KSC Kettwig
DESCRIPTION:
URL:https://rawa-kanu.de/rawa2016/termin/filmnachmittag-im-bootshaus-ksc-kettwig-2/
LOCATION:KSC Kettwig\, Promenadenweg 98\, Essen\, 45219\, Deutschland
END:VEVENT
END:VCALENDAR